BEGIN:VCALENDAR
VERSION:2.0
PRODID:-//Tukios.com/
BEGIN:VEVENT
UID:2618ac03-42d7-4ba8-a7f1-1dc88af592b2@www.flanderspowellfuneralhome.com
DTSTAMP:20260425T003745Z
DTSTART:20260427T210000Z
DTEND:20260428T000000Z
SUMMARY:Visitation
DESCRIPTION:
URL:https://www.flanderspowellfuneralhome.com/obituaries/lawrence-raulerson
LOCATION:First Baptist Church 169 Church St  Pembroke GA 31321
GEO:32.1381608;-81.6236679
END:VEVENT
END:VCALENDAR