BEGIN:VCALENDAR
VERSION:2.0
PRODID:-//Tukios.com/
BEGIN:VEVENT
UID:f4262a6a-e494-4736-babe-ec2ea9a88e3e@www.flanderspowellfuneralhome.com
DTSTAMP:20260425T003358Z
DTSTART:20260428T150000Z
DTEND:20260428T160000Z
SUMMARY:Funeral Church
DESCRIPTION:
URL:https://www.flanderspowellfuneralhome.com/obituaries/lawrence-raulerson
LOCATION:First Baptist Church 169 Church St  Pembroke GA 31321
GEO:32.1381608;-81.6236679
END:VEVENT
END:VCALENDAR